BEGIN:VCALENDAR
VERSION:2.0
PRODID:-//wp-events-plugin.com//7.2.3.1//EN
TZID:Europe/Amsterdam
X-WR-TIMEZONE:Europe/Amsterdam
BEGIN:VEVENT
UID:163@edelstenenbuurt.nl
DTSTART;TZID=Europe/Amsterdam:20211226T160000
DTEND;TZID=Europe/Amsterdam:20211226T170000
DTSTAMP:20211110T143416Z
URL:https://edelstenenbuurt.nl/events/walk-talk-voor-vrouwen-2021-12-26/
SUMMARY:Walk & Talk (voor vrouwen)
DESCRIPTION:Iedere zondag lekker een rondje om de Zegerplas wandelen\, elka
 ar ontmoeten en met elkaar en praten over dat wat belangrijk voor ons is.
  We starten bij restaurant Wet &amp\; Wild. Organisator: https://www.sa-v
 a.org
END:VEVENT
BEGIN:VTIMEZONE
TZID:Europe/Amsterdam
X-LIC-LOCATION:Europe/Amsterdam
BEGIN:STANDARD
DTSTART:20211031T020000
TZOFFSETFROM:+0200
TZOFFSETTO:+0100
TZNAME:CET
END:STANDARD
END:VTIMEZONE
END:VCALENDAR